BEGIN:VCALENDAR
VERSION:2.0
PRODID:-//wp-events-plugin.com//7.2.3.1//EN
BEGIN:VEVENT
UID:389@vancommunitylab.com
DTSTART:20260103T100000Z
DTEND:20260103T140000Z
DTSTAMP:20251202T195737Z
URL:https://vancommunitylab.com/calendar/metal-shop-orientation-11/
SUMMARY:Metal Shop Orientation
DESCRIPTION:Participants are advised to wear leather footwear\, long sleeve
  cotton shirts and denim jeans. Bring safety glasses if you own them.
CATEGORIES:Orientations
END:VEVENT
END:VCALENDAR